BEGIN:VCALENDAR
VERSION:2.0
PRODID:-//eventon.com NONSGML v1.0//EN
CALSCALE:GREGORIAN
METHOD:PUBLISH
BEGIN:VEVENT
UID:69e8b6d2bc17d
DTSTAMP:20260422T115354Z
DTSTART:20250502T210000Z
DTEND:20250503T060000Z
LOCATION:OHM Köpenicker Str. 70\,  10179 Berlin
SUMMARY:SKIN CONTACT V
DESCRIPTION:SKIN CONTACT is back at OHM with Post-Mayday Mayhem. Indulge yo
 urself in the dark side of electronic music &#038; art of Berlin\,  mixing 
 old-school dark aesthetics with fresh gender-f*cking queerness and sexual f
 reedom\,  a full sensory experience sure to make you shake &#038; quiver in
  pure ecstasy. Burning-hot Techno for[..]\nhttps://www.theclubmap.com/event
 s/skin-contact-v-w-paula-koski-juan-cernadas-maze-dk-orm/
URL:https://www.theclubmap.com/events/skin-contact-v-w-paula-koski-juan-cernadas-maze-dk-orm/
END:VEVENT
END:VCALENDAR