BEGIN:VCALENDAR
VERSION:2.0
PRODID:-//eventon.com NONSGML v1.0//EN
CALSCALE:GREGORIAN
METHOD:PUBLISH
BEGIN:VEVENT
UID:69e9efcb53029
DTSTAMP:20260423T100915Z
DTSTART:20250503T210000Z
DTEND:20250504T060000Z
LOCATION:CAFE GLOCKSEE | HANNOVER
SUMMARY:N:TAKTOGEN TECHNO
DESCRIPTION:Kayce Cane (Beatbuddys) borrisgoodvibes (Freiraum) Ja &#8211; M
 an! Tom Nihil (N:taktogen) Jeneswelches (N:taktogen)\nhttps://www.theclubma
 p.com/events/ntaktogen-techno/
URL:https://www.theclubmap.com/events/ntaktogen-techno/
END:VEVENT
END:VCALENDAR