BEGIN:VCALENDAR
VERSION:2.0
PRODID:-//eventon.com NONSGML v1.0//EN
CALSCALE:GREGORIAN
METHOD:PUBLISH
BEGIN:VEVENT
UID:69e757c9926db
DTSTAMP:20260421T105609Z
DTSTART:20250509T210000Z
DTEND:20250510T040000Z
LOCATION:DNA Club | MUNCHEN
SUMMARY:DNA with Thomas Schumacher
DESCRIPTION:Thomas Schumacher A.D.H.S. Karla Blum\nhttps://www.theclubmap.c
 om/events/dna-with-thomas-schumacher/
URL:https://www.theclubmap.com/events/dna-with-thomas-schumacher/
END:VEVENT
END:VCALENDAR