BEGIN:VCALENDAR
VERSION:2.0
PRODID:-//eventon.com NONSGML v1.0//EN
CALSCALE:GREGORIAN
METHOD:PUBLISH
BEGIN:VEVENT
UID:69e753849ad5e
DTSTAMP:20260421T103756Z
DTSTART:20250509T210000Z
DTEND:20250510T050000Z
LOCATION:Schrotty | KÖLN
SUMMARY:BZZBZZ TECHNO
DESCRIPTION:Main Floor: Tham HOTBOI2300 MUENX KING LOU!E SPEEDO Second Floo
 r – B2B Sessions: HUGE.MK B2B DISCO DANIEL MJK B2B Sasuma DJ MÄSISCH B2B
  DOCTOR MÜCKE Gemini MAZO B2B ZUZA\nhttps://www.theclubmap.com/events/bzzb
 zz-techno/
URL:https://www.theclubmap.com/events/bzzbzz-techno/
END:VEVENT
END:VCALENDAR