BEGIN:VCALENDAR
VERSION:2.0
PRODID:-//eventon.com NONSGML v1.0//EN
CALSCALE:GREGORIAN
METHOD:PUBLISH
BEGIN:VEVENT
UID:69e5e3da75d32
DTSTAMP:20260420T082914Z
DTSTART:20250509T210000Z
DTEND:20250510T030000Z
LOCATION:Bootshaus | KÖLN
SUMMARY:INURFASE & GPF PRES. THE SWEATBOX
DESCRIPTION:GPF\nhttps://www.theclubmap.com/events/inurfase-gpf-pres-the-sw
 eatbox/
URL:https://www.theclubmap.com/events/inurfase-gpf-pres-the-sweatbox/
END:VEVENT
END:VCALENDAR