BEGIN:VCALENDAR
VERSION:2.0
PRODID:-//eventon.com NONSGML v1.0//EN
CALSCALE:GREGORIAN
METHOD:PUBLISH
BEGIN:VEVENT
UID:69e7625027547
DTSTAMP:20260421T114104Z
DTSTART:20250503T203000Z
DTEND:20250504T050000Z
LOCATION:arkaoda Berlin Karl-Marx Platz 16 12043 Berlin
SUMMARY:Microwave Mirage
DESCRIPTION:Olsvangèr Minou Oram Retromigration Niklas Wandt Microwave Mir
 age &#8211; a night dedicated to tingling resonances\,  warming basses and 
 driving rhythms &#8211; think of love potions served up in magic caves and 
 dolphins breaking the glistening surf. Music courtesy of Olsvangèr\,  head
  honcho of Tofistock\,  who recently released a string of[..]\nhttps://www.
 theclubmap.com/events/microwave-mirage/
URL:https://www.theclubmap.com/events/microwave-mirage/
END:VEVENT
END:VCALENDAR