BEGIN:VCALENDAR
VERSION:2.0
PRODID:-//eventon.com NONSGML v1.0//EN
CALSCALE:GREGORIAN
METHOD:PUBLISH
BEGIN:VEVENT
UID:69e4cbdd89a05
DTSTAMP:20260419T123437Z
DTSTART:20250511T120000Z
DTEND:20250512T040000Z
LOCATION:Else An den Treptowers 10\,  12435 Berlin
SUMMARY:Else x Swindle Sessions
DESCRIPTION:Dam Swindle Demi Riquisimo dj sweet6teen Ian Pooley Shy One Vio
  PRG\nhttps://www.theclubmap.com/events/else-x-swindle-sessions/
URL:https://www.theclubmap.com/events/else-x-swindle-sessions/
END:VEVENT
END:VCALENDAR