BEGIN:VCALENDAR
VERSION:2.0
PRODID:-//eventon.com NONSGML v1.0//EN
CALSCALE:GREGORIAN
METHOD:PUBLISH
BEGIN:VEVENT
UID:69e751c857310
DTSTAMP:20260421T103032Z
DTSTART:20250510T200000Z
DTEND:20250512T000000Z
LOCATION:Kater Holzmarktstrasse 25\,  10243 Berlin
SUMMARY:Katernacht with Eric Cloutier & others
DESCRIPTION:10|05 &#8211; 12|05 __________________ HOPPER Eric Cloutier Sab
 ine Hoffmann Varuna Agosti __________________ ACID BOGEN Nadine Fabe justca
 llmesergio Babxi AFTERHOUR BY 25/7 Julia Goldfarb KIRSCH Najeh Set In Motio
 n __________________ EXTRAEXTRA By Schrott Rec. Aezron LIVE Bang and Cherry
  LIVE Bruno Brasi b2b Ballerina Fran b2b Fyii Hoppenstedt b2b Schlois Gain[
 ..]\nhttps://www.theclubmap.com/events/katernacht-with-eric-cloutier-others
 /
URL:https://www.theclubmap.com/events/katernacht-with-eric-cloutier-others/
END:VEVENT
END:VCALENDAR