BEGIN:VCALENDAR
VERSION:2.0
PRODID:-//eventon.com NONSGML v1.0//EN
CALSCALE:GREGORIAN
METHOD:PUBLISH
BEGIN:VEVENT
UID:69e4dc359c98e
DTSTAMP:20260419T134421Z
DTSTART:20250530T200000Z
DTEND:20250530T190000Z
LOCATION:GrooveStation | DRESDEN
SUMMARY:HYPERTHERMIE
DESCRIPTION:Langsam wird es immer heißer und mit jedem Abend im Kiez nimmt
  das Summen auf den Straßen zu. Menschen sitzen auf Fensterbrettern\,  in 
 Bars und Restaurants\,  stehen vor Spätis oder liegen im Park. Doch in der
  GrooveStation summt es nicht nur\,  sondern es bebt. Zittert. Die Luft ist
  Feucht und[..]\nhttps://www.theclubmap.com/events/hyperthermie/
URL:https://www.theclubmap.com/events/hyperthermie/
END:VEVENT
END:VCALENDAR