BEGIN:VCALENDAR
VERSION:2.0
PRODID:-//eventon.com NONSGML v1.0//EN
CALSCALE:GREGORIAN
METHOD:PUBLISH
BEGIN:VEVENT
UID:69eacd3004c6e
DTSTAMP:20260424T015352Z
DTSTART:20250613T200000Z
DTEND:20250614T060000Z
LOCATION:ÆDEN Schleusenufer 3\,  10997 Berlin
SUMMARY:Wasted Unicorns Sommerfest
DESCRIPTION:Wasted Unicorns Sommerfest Friday 13.06.2025 Line Up: Lexer (Ma
 nus in Mano / Purified) Niconé (Dantze / Katermukke) Kollektiv Ost (3000 G
 rad / Katermukke) Dekai (Valhall Records) Maurice Mino (Praerie Festival) R
 esidents (Wasted Unicorns) 2 Floors Club &#038; Garden Open Doors: 22:00 Ea
 rly Bird Tickets: https://ra.co/events/2044360 Tickets sind auch an der[..]
 \nhttps://www.theclubmap.com/events/wasted-unicorns-sommerfest/
URL:https://www.theclubmap.com/events/wasted-unicorns-sommerfest/
END:VEVENT
END:VCALENDAR