BEGIN:VCALENDAR
VERSION:2.0
PRODID:-//eventon.com NONSGML v1.0//EN
CALSCALE:GREGORIAN
METHOD:PUBLISH
BEGIN:VEVENT
UID:69e888e24dd88
DTSTAMP:20260422T083754Z
DTSTART:20250516T200000Z
DTEND:20250517T040000Z
LOCATION:Humboldthain Club Hochstraße 46; 13357 Berlin
SUMMARY:Subway Surfers by Kollektiv Bühnensaft
DESCRIPTION:Leon Ziener Kleingartenkolonie Hellersdorf TIZIANO DJ Napoli DJ
  Haarpracht aka JaJo Prachtlachs Ravepunzel Initia b2b MeVsMe\nhttps://www.
 theclubmap.com/events/subway-surfers-by-kollektiv-buehnensaft/
URL:https://www.theclubmap.com/events/subway-surfers-by-kollektiv-buehnensaft/
END:VEVENT
END:VCALENDAR