BEGIN:VCALENDAR
VERSION:2.0
PRODID:-//eventon.com NONSGML v1.0//EN
CALSCALE:GREGORIAN
METHOD:PUBLISH
BEGIN:VEVENT
UID:69e74f7d9229e
DTSTAMP:20260421T102045Z
DTSTART:20250523T210000Z
DTEND:20250524T070000Z
LOCATION:ÆDEN Schleusenufer 3\,  10997 Berlin
SUMMARY:Anechoic x Grakken 18\, 10 €
DESCRIPTION:Amaro (ES) [Vinyl Only] Delarave [Vinyl Only] 9LALEY b2b Vanesk
 a futurristic Not Charlie [Vinyl Only] Narph Xorpel Sandersweet two girls o
 ne mom August Kind bbymeister Deltapeak Morelia\nhttps://www.theclubmap.com
 /events/anechoic-x-grakken-1810-e/
URL:https://www.theclubmap.com/events/anechoic-x-grakken-1810-e/
END:VEVENT
END:VCALENDAR