BEGIN:VCALENDAR
VERSION:2.0
PRODID:-//eventon.com NONSGML v1.0//EN
CALSCALE:GREGORIAN
METHOD:PUBLISH
BEGIN:VEVENT
UID:69e752b05cc13
DTSTAMP:20260421T103424Z
DTSTART:20250531T120000Z
DTEND:20250531T200000Z
LOCATION:gART.n Blockdammweg 1\,  10317 Berlin
SUMMARY:gART.n Opening x Mystic Creatures
DESCRIPTION:We open the gART.n season and would love to celebrate a beautif
 ul open air with you. Let’s release the creatures that hide within\,  lea
 ve the everyday behind and lose ourselves on the dancefloor. A day full of 
 energy\,  movement and connection awaits. The giants blow their horns alrea
 dy\,  the unicorns[..]\nhttps://www.theclubmap.com/events/gart-n-opening-x-
 mystic-creatures/
URL:https://www.theclubmap.com/events/gart-n-opening-x-mystic-creatures/
END:VEVENT
END:VCALENDAR