BEGIN:VCALENDAR
VERSION:2.0
PRODID:-//eventon.com NONSGML v1.0//EN
CALSCALE:GREGORIAN
METHOD:PUBLISH
BEGIN:VEVENT
UID:69e74f64f04a9
DTSTAMP:20260421T102020Z
DTSTART:20250524T120000Z
DTEND:20250525T080000Z
LOCATION:://about blank Markgrafendamm 24c\,  10245 Berlin
SUMMARY:Sachsentrance x Rave Alert 25\, 00 €
DESCRIPTION:ANDATA Atreo Bashir Blame the Booker BORRO Fischmonger HOTBOI23
 00 Inso.ence Jan Vercauteren Kataya/ Blossmbae MËRO Pako Marckx RaverPik S
 abu! SUNTA Suave The Jakob Sister Trypdø VCL (FR) X&#038;trick\nhttps://ww
 w.theclubmap.com/events/sachsentrance-x-rave-alert-2500-e/
URL:https://www.theclubmap.com/events/sachsentrance-x-rave-alert-2500-e/
END:VEVENT
END:VCALENDAR