BEGIN:VCALENDAR
VERSION:2.0
PRODID:-//eventon.com NONSGML v1.0//EN
CALSCALE:GREGORIAN
METHOD:PUBLISH
BEGIN:VEVENT
UID:69e5e4d94530c
DTSTAMP:20260420T083329Z
DTSTART:20250530T200000Z
DTEND:20250531T040000Z
LOCATION:Backstage | MÜNCHEN
SUMMARY:1CB x GehLekTek
DESCRIPTION:GehLekTek (LIVE) Luka V MIDAS pnk pnthr b2b .everyone TOON WORL
 D Skätchy.P\nhttps://www.theclubmap.com/events/1cb-x-gehlektek/
URL:https://www.theclubmap.com/events/1cb-x-gehlektek/
END:VEVENT
END:VCALENDAR