BEGIN:VCALENDAR
VERSION:2.0
PRODID:-//eventon.com NONSGML v1.0//EN
CALSCALE:GREGORIAN
METHOD:PUBLISH
BEGIN:VEVENT
UID:69e74ebeb1747
DTSTAMP:20260421T101734Z
DTSTART:20250530T210000Z
DTEND:20250531T070000Z
LOCATION:Tanzhaus West | FRANKFURT
SUMMARY:HYPERTRANCE
DESCRIPTION:Stinny Stone SPEEDBOYS Versus (DE) cravings320 ADHASS Madakel [
 Madame Blueberry B2B Orakel] Ryukyu DJ 069 Jozh\nhttps://www.theclubmap.com
 /events/hypertrance/
URL:https://www.theclubmap.com/events/hypertrance/
END:VEVENT
END:VCALENDAR