BEGIN:VCALENDAR
VERSION:2.0
PRODID:-//eventon.com NONSGML v1.0//EN
CALSCALE:GREGORIAN
METHOD:PUBLISH
BEGIN:VEVENT
UID:69e9d6b9acfcd
DTSTAMP:20260423T082217Z
DTSTART:20250607T210000Z
DTEND:20250608T060000Z
LOCATION:Odonien | KÖLN
SUMMARY:EhrenKlub in Odonien #21 - Summer Special #1 mit Doruksen\,  NOZZ\,  SIKOTI uvm
DESCRIPTION:* ALLY * CAMILLA V * Doruksen * EDNA * Isabelle Beaucamp * LAUR
 A VOM JUPITER * NOZZ * SIKOTI Bus Crew: * HOCHPOTENT * LEWØ * NOMIT\nhttps
 ://www.theclubmap.com/events/ehrenklub-in-odonien-21-summer-special-1-mit-d
 oruksen-nozz-sikoti-uvm/
URL:https://www.theclubmap.com/events/ehrenklub-in-odonien-21-summer-special-1-mit-doruksen-nozz-sikoti-uvm/
END:VEVENT
END:VCALENDAR