BEGIN:VCALENDAR
VERSION:2.0
PRODID:-//eventon.com NONSGML v1.0//EN
CALSCALE:GREGORIAN
METHOD:PUBLISH
BEGIN:VEVENT
UID:69e73af14a67b
DTSTAMP:20260421T085305Z
DTSTART:20250529T190000Z
DTEND:20250530T090000Z
LOCATION:Renate Alt Stralau 70\,  10245 Berlin
SUMMARY:House of Lunacy 33\, 00 €
DESCRIPTION:ANTYA BIPOLAR Soundsystem cliff Cyranotaurus Cortex Don Rogall 
 Emma Keks Exildiscount Freudenthal Goldenaxe Madmotormiquel MIHVU &#038; So
 nik Paradise Hardy Pariah Carey Sado Opera Saskia Sasse Steffo Stephan Lich
 a\nhttps://www.theclubmap.com/events/house-of-lunacy-3300-e/
URL:https://www.theclubmap.com/events/house-of-lunacy-3300-e/
END:VEVENT
END:VCALENDAR