BEGIN:VCALENDAR
VERSION:2.0
PRODID:-//eventon.com NONSGML v1.0//EN
CALSCALE:GREGORIAN
METHOD:PUBLISH
BEGIN:VEVENT
UID:69e73e755e1b1
DTSTAMP:20260421T090805Z
DTSTART:20250610T170000Z
DTEND:20250611T010000Z
LOCATION:Lokschuppen Berlin Zugang über Warschauer Brücke\,  Revaler Straße 99\,  10245 Berlin
SUMMARY:wieder: OPEN AIR & MORE
DESCRIPTION:Jesooria B2B Orbi Berfu DOCTOR MÜCKE EGE363\nhttps://www.thecl
 ubmap.com/events/wieder-open-air-more/
URL:https://www.theclubmap.com/events/wieder-open-air-more/
END:VEVENT
END:VCALENDAR