BEGIN:VCALENDAR
VERSION:2.0
PRODID:-//eventon.com NONSGML v1.0//EN
CALSCALE:GREGORIAN
METHOD:PUBLISH
BEGIN:VEVENT
UID:69e74f50ab19a
DTSTAMP:20260421T102000Z
DTSTART:20250620T200000Z
DTEND:20250621T040000Z
LOCATION:Bahnwärter Thiel | MÜNCHEN
SUMMARY:Rebellion der Träumer* im Bahnwärter Thiel
DESCRIPTION:Ele Luz [Re:vo Artists\,  Variety Berlin / Berlin] Horst Haller
  [Rebellion der Träumer* / Berlin] Sebastian Pedro [TiF / Rosenheim] Siren
 a [TiF / Kochelsee] Temple Tears [Rebellion der Träumer* / Berlin] Tina Ti
 schler [Berlin]\nhttps://www.theclubmap.com/events/rebellion-der-traeumer-i
 m-bahnwaerter-thiel/
URL:https://www.theclubmap.com/events/rebellion-der-traeumer-im-bahnwaerter-thiel/
END:VEVENT
END:VCALENDAR