BEGIN:VCALENDAR
VERSION:2.0
PRODID:-//eventon.com NONSGML v1.0//EN
CALSCALE:GREGORIAN
METHOD:PUBLISH
BEGIN:VEVENT
UID:69e62429690ec
DTSTAMP:20260420T130337Z
DTSTART:20260425T180000Z
DTEND:20260425T200000Z
LOCATION:Huxleys Berlin Hasenheide 107/113\,  10967 Berlin
SUMMARY:Kasalla - Trone & Konfetti Tour 2026
DESCRIPTION:Kasalla feiern Jubiläum – und zwar so\,  wie man es von ihne
 n kennt: laut\,  herzlich\,  emotional. Die fünf Jungs aus Köln kommen 20
 26 mit einem brandneuen Studioalbum nach Berlin – und der Titel der Tour 
 sagt alles: „Trone &#038; Konfetti“. Tränen und Konfetti – das ist d
 as\,  was bleibt\,  wenn[..]\nhttps://www.theclubmap.com/events/kasalla-tro
 ne-konfetti-tour-2026/
URL:https://www.theclubmap.com/events/kasalla-trone-konfetti-tour-2026/
END:VEVENT
END:VCALENDAR