BEGIN:VCALENDAR
VERSION:2.0
PRODID:-//eventon.com NONSGML v1.0//EN
CALSCALE:GREGORIAN
METHOD:PUBLISH
BEGIN:VEVENT
UID:69e73dc2e64ee
DTSTAMP:20260421T090506Z
DTSTART:20250618T180000Z
DTEND:20250619T060000Z
LOCATION:ÆDEN Schleusenufer 3\,  10997 Berlin
SUMMARY:Lilith - VEIL
DESCRIPTION:Nexus J MARØ AKA INTIMID [BERLIN:UNDERGROUND // ETD] LNZ. B2B 
 XHOUSTED [KØSE] OSKAR. The Camel [BERLIN:UNDERGROUND // ETD]\nhttps://www.
 theclubmap.com/events/lilith-veil/
URL:https://www.theclubmap.com/events/lilith-veil/
END:VEVENT
END:VCALENDAR