BEGIN:VCALENDAR
VERSION:2.0
PRODID:-//eventon.com NONSGML v1.0//EN
CALSCALE:GREGORIAN
METHOD:PUBLISH
BEGIN:VEVENT
UID:69e74df3afb57
DTSTAMP:20260421T101411Z
DTSTART:20250620T210000Z
DTEND:20250621T140000Z
LOCATION:ÆDEN Schleusenufer 3\,  10997 Berlin
SUMMARY:ETD ALL STARS / SYNERGY SESSIONS V 17-HOURS MARATHON
DESCRIPTION:Mislaw B2B The Camel [CAŁOŚĆ // ETD] Opal B2B Al Aslan [AZNT
 ZIA] TAUREAN (2)B2B Ayolxi LUPENKO B2B Pablo Espinal [SENSE AFFAIR] KEROSEN
 E (ZA) B2B A/NTI [KØSE] XHOUSTED B2B LNZ. [KØSE] VNVK B2B Dj Fugitive [ET
 D] Ayham4real B2B MO KHATIB [KØSE] H7 (3) B2B Blck-Swan AKA 2F4RGONE HYPNO
 TIC.ERA B2B Tiem [//ETD]\nhttps://www.theclubmap.com/events/etd-all-stars-s
 ynergy-sessions-v-17-hours-marathon/
URL:https://www.theclubmap.com/events/etd-all-stars-synergy-sessions-v-17-hours-marathon/
END:VEVENT
END:VCALENDAR