BEGIN:VCALENDAR
VERSION:2.0
PRODID:-//eventon.com NONSGML v1.0//EN
CALSCALE:GREGORIAN
METHOD:PUBLISH
BEGIN:VEVENT
UID:69e7525848086
DTSTAMP:20260421T103256Z
DTSTART:20250627T210000Z
DTEND:20250628T080000Z
LOCATION:Tanzhaus West | FRANKFURT
SUMMARY:Toxic Family & Friends – Tripple B-Day Bash
DESCRIPTION:RRAW! [technoclub pure] Alex D-Part [move] Swen Baez [phutureWa
 x\,  iamt\,  vjola\,  unit55] Jana Fried [friends of tofa] Lubo [tanzt oder
  brennt] Steve Simon [toxic family] Nanorausch [toxic family]\nhttps://www.
 theclubmap.com/events/toxic-family-friends-tripple-b-day-bash/
URL:https://www.theclubmap.com/events/toxic-family-friends-tripple-b-day-bash/
END:VEVENT
END:VCALENDAR