BEGIN:VCALENDAR
VERSION:2.0
PRODID:-//eventon.com NONSGML v1.0//EN
CALSCALE:GREGORIAN
METHOD:PUBLISH
BEGIN:VEVENT
UID:69e73bdb555b8
DTSTAMP:20260421T085659Z
DTSTART:20250628T210000Z
DTEND:20250629T040000Z
LOCATION:ILSES ERIKA | LEIPZIG
SUMMARY:We are the 80s
DESCRIPTION:Floor 1: DJ PuPPe PoP / Wave / SuB80s / NDW / Rock / DISCO Floo
 r 2: She&#8217;s lost control cold wave / post punk / synth wave / minimal 
 / tragic pop / sad 80s\nhttps://www.theclubmap.com/events/we-are-the-80s/
URL:https://www.theclubmap.com/events/we-are-the-80s/
END:VEVENT
END:VCALENDAR