BEGIN:VCALENDAR
VERSION:2.0
PRODID:-//eventon.com NONSGML v1.0//EN
CALSCALE:GREGORIAN
METHOD:PUBLISH
BEGIN:VEVENT
UID:69e762cfac1b0
DTSTAMP:20260421T114311Z
DTSTART:20250627T210000Z
DTEND:20250628T030000Z
LOCATION:PALO PALO | HANNOVER
SUMMARY:Semester Party
DESCRIPTION:@dj themo\nhttps://www.theclubmap.com/events/semester-party/
URL:https://www.theclubmap.com/events/semester-party/
END:VEVENT
END:VCALENDAR