BEGIN:VCALENDAR
VERSION:2.0
PRODID:-//eventon.com NONSGML v1.0//EN
CALSCALE:GREGORIAN
METHOD:PUBLISH
BEGIN:VEVENT
UID:69e775137e821
DTSTAMP:20260421T130107Z
DTSTART:20250704T210000Z
DTEND:20250705T050000Z
LOCATION:Helios37 | KÖLN
SUMMARY:jedermensch. w/ DJ Hyperdrive on CSD Friday
DESCRIPTION:DJ Hyperdrive Aaro (3) Annemalie b2b lollo gianni b2b nordcorre
 ia.mp3 Redfocks Ursula Erdmann\nhttps://www.theclubmap.com/events/jedermens
 ch-w-dj-hyperdrive-on-csd-friday/
URL:https://www.theclubmap.com/events/jedermensch-w-dj-hyperdrive-on-csd-friday/
END:VEVENT
END:VCALENDAR