BEGIN:VCALENDAR
VERSION:2.0
PRODID:-//eventon.com NONSGML v1.0//EN
CALSCALE:GREGORIAN
METHOD:PUBLISH
BEGIN:VEVENT
UID:69e7575872f79
DTSTAMP:20260421T105416Z
DTSTART:20250711T210000Z
DTEND:20250712T060000Z
LOCATION:fi | Köln
SUMMARY:fi = altshift5 with Dyed Soundorom & Avontuur & Chromatik
DESCRIPTION:DAVID DRÖGE b2b SOPHIETJE Dyed Soundorom SIMON BEHRENDT b2b AR
 NDSON CHROMATIK w/ clara luise JAKOB B. MARVIN RICHTER\nhttps://www.theclub
 map.com/events/fi-altshift5-with-dyed-soundorom-avontuur-chromatik/
URL:https://www.theclubmap.com/events/fi-altshift5-with-dyed-soundorom-avontuur-chromatik/
END:VEVENT
END:VCALENDAR