BEGIN:VCALENDAR
VERSION:2.0
PRODID:-//eventon.com NONSGML v1.0//EN
CALSCALE:GREGORIAN
METHOD:PUBLISH
BEGIN:VEVENT
UID:69e73bcee74e9
DTSTAMP:20260421T085646Z
DTSTART:20250710T210000Z
DTEND:20250711T080000Z
LOCATION:://about blank Markgrafendamm 24c\,  10245 Berlin
SUMMARY:DIFFUSE REALITY [OPEN AIR   2 ROOMS]
DESCRIPTION:Baybisbald DJ Mondfinsternis EMLKL3R (Live) Gabriele Santucci D
 MZ Squaric\nhttps://www.theclubmap.com/events/diffuse-reality-open-air-2-ro
 oms/
URL:https://www.theclubmap.com/events/diffuse-reality-open-air-2-rooms/
END:VEVENT
END:VCALENDAR