BEGIN:VCALENDAR
VERSION:2.0
PRODID:-//eventon.com NONSGML v1.0//EN
CALSCALE:GREGORIAN
METHOD:PUBLISH
BEGIN:VEVENT
UID:69e74e8f06898
DTSTAMP:20260421T101647Z
DTSTART:20250822T180000Z
DTEND:20250823T040000Z
LOCATION:Weekend Alexanderstrasse 7; Mitte; 10178 Berlin
SUMMARY:WKND HOSTED BY HARRIS & GALLUS
DESCRIPTION:WKND – Hosted by Harris &#038; Gallus Friday\,  August 22nd\,
   2025 Start: 8 PM (weather permitting) | 10 PM (indoors if rainy) Weekend 
 Club | 15th Floor &#038; Rooftop Catering by Choripanes030 &#8211; (weather
  permitting) (please check our Instagram for Updates) Variety of House Musi
 c Line Up: Harris Alex Gallus[..]\nhttps://www.theclubmap.com/events/wknd-h
 osted-by-harris-gallus-2/
URL:https://www.theclubmap.com/events/wknd-hosted-by-harris-gallus-2/
END:VEVENT
END:VCALENDAR