BEGIN:VCALENDAR
VERSION:2.0
PRODID:-//eventon.com NONSGML v1.0//EN
CALSCALE:GREGORIAN
METHOD:PUBLISH
BEGIN:VEVENT
UID:69e765468df1a
DTSTAMP:20260421T115342Z
DTSTART:20250808T200000Z
DTEND:20250809T030000Z
LOCATION:Coco Boule Prinzenstraße 85/D-F\,  10969 Berlin
SUMMARY:Sweetsour: Goldies x Sucux
DESCRIPTION:$ONO$ CLIQ (live) Kev Koko JADA DJ Cringey BBU Sound\nhttps://w
 ww.theclubmap.com/events/sweetsour-goldies-x-sucux/
URL:https://www.theclubmap.com/events/sweetsour-goldies-x-sucux/
END:VEVENT
END:VCALENDAR