BEGIN:VCALENDAR
VERSION:2.0
PRODID:-//eventon.com NONSGML v1.0//EN
CALSCALE:GREGORIAN
METHOD:PUBLISH
BEGIN:VEVENT
UID:69e73d5997532
DTSTAMP:20260421T090321Z
DTSTART:20250906T210000Z
DTEND:20250907T030000Z
LOCATION:Säälchen Holzmarktstraße 25\,  10243 Berlin
SUMMARY:Addicted To Bass
DESCRIPTION:Addicted to Bass is happy to presents Eatbrains finest in comin
 ation with the vocie of let it roll and counterstike for a night of Neuro/H
 ard and Metall DnB! Line Up DJs: Zardonic &#8211; mnrk music group/blackout
  (Venezuela) Jade Venom &#8211; Eat Brain &#8211; (HU) Counterstrike &#8211
 ; algorythmrecordings &#8211; (SA/CZ) Diaz-Soto[..]\nhttps://www.theclubmap
 .com/events/addicted-to-bass-presents-zardonic-counterstrike-jade-venom-cop
 pa/
URL:https://www.theclubmap.com/events/addicted-to-bass-presents-zardonic-counterstrike-jade-venom-coppa/
END:VEVENT
END:VCALENDAR