BEGIN:VCALENDAR
VERSION:2.0
PRODID:-//eventon.com NONSGML v1.0//EN
CALSCALE:GREGORIAN
METHOD:PUBLISH
BEGIN:VEVENT
UID:69e74f4885d56
DTSTAMP:20260421T101952Z
DTSTART:20250823T150000Z
DTEND:20250824T200000Z
LOCATION:Conne Island | LEIPZIG
SUMMARY:Electric Weekender 2025
DESCRIPTION:96kpbs Albina ALiNA ANTR Boyá Diwa DJ Balduin (live) DJ Invisi
 ble Train Station Dr. Long Dubslutz (Nina &#038; HAL) Eva Gina Sabatini Ian
  Pooley Liquid Amber (Naitwa &#038; Scherbert) Lux. Nika J NixNoies (live) 
 Ori Raz Session Restore\nhttps://www.theclubmap.com/events/electric-weekend
 er-2025/
URL:https://www.theclubmap.com/events/electric-weekender-2025/
END:VEVENT
END:VCALENDAR