BEGIN:VCALENDAR
VERSION:2.0
PRODID:-//eventon.com NONSGML v1.0//EN
CALSCALE:GREGORIAN
METHOD:PUBLISH
BEGIN:VEVENT
UID:69e4c9d925da2
DTSTAMP:20260419T122601Z
DTSTART:20250823T210000Z
DTEND:20250824T060000Z
LOCATION:Elipamanoke | LEIPZIG
SUMMARY:Deli Dance
DESCRIPTION:uneins b2b Sternfang Marie Lung Danne Miss Finster 50PHIE edopp
 elk\nhttps://www.theclubmap.com/events/deli-dance/
URL:https://www.theclubmap.com/events/deli-dance/
END:VEVENT
END:VCALENDAR