BEGIN:VCALENDAR
VERSION:2.0
PRODID:-//eventon.com NONSGML v1.0//EN
CALSCALE:GREGORIAN
METHOD:PUBLISH
BEGIN:VEVENT
UID:69e7407fce821
DTSTAMP:20260421T091647Z
DTSTART:20250827T190000Z
DTEND:20250827T230000Z
LOCATION:Astral Junction Rigaer Str. 105\,  10247 Berlin
SUMMARY:NATURAL N.20 - A Language of Human Interaction LIVE
DESCRIPTION:Eine neue Edition der klanglichen Erkundung entfaltet sich. Die
 s ist mehr als nur ein Konzert. Es ist ein Live-Akt der räumlichen Komposi
 tion\,  eine temporäre Architektur aus Sound\,  die dazu bestimmt ist\,  d
 ie lineare Wahrnehmung aufzulösen und dein Nervensystem neu zu stimmen. Un
 angekündigte Performer. Unbekannte Wege. Du kommst ohne Erwartungen und[..
 ]\nhttps://www.theclubmap.com/events/natural-n-20-a-language-of-human-inter
 action-live/
URL:https://www.theclubmap.com/events/natural-n-20-a-language-of-human-interaction-live/
END:VEVENT
END:VCALENDAR