BEGIN:VCALENDAR
VERSION:2.0
PRODID:-//eventon.com NONSGML v1.0//EN
CALSCALE:GREGORIAN
METHOD:PUBLISH
BEGIN:VEVENT
UID:69e740b9ef870
DTSTAMP:20260421T091745Z
DTSTART:20250829T180000Z
DTEND:20250830T020000Z
LOCATION:Haus73 | HAMBURG
SUMMARY:behave with O. Robles\,  Jow Moor & more
DESCRIPTION:o.robles Jow Moor Ztrong Mark Murphy (DE) VIĆERO Lucas Darío 
 Robert Brescan\nhttps://www.theclubmap.com/events/behave-with-o-robles-jow-
 moor-more/
URL:https://www.theclubmap.com/events/behave-with-o-robles-jow-moor-more/
END:VEVENT
END:VCALENDAR