BEGIN:VCALENDAR
VERSION:2.0
PRODID:-//eventon.com NONSGML v1.0//EN
CALSCALE:GREGORIAN
METHOD:PUBLISH
BEGIN:VEVENT
UID:69e74f38c2632
DTSTAMP:20260421T101936Z
DTSTART:20250903T190000Z
DTEND:20250903T230000Z
LOCATION:Astral Junction Rigaer Str. 105\,  10247 Berlin
SUMMARY:NATURAL N.21 - A Language of Sonic Interaction: Sound Healing LIVE
DESCRIPTION:Last month\,  NATURAL was not merely an event\,  but a profound
  convergence of sound and space. The collective sonic architecture\,  metic
 ulously woven by the unannounced performers\,  dissolved the conventional b
 oundaries of a concert\,  transforming the room into a canvas for a shared 
 sensory experience. Their compositions were not simply heard;[..]\nhttps://
 www.theclubmap.com/events/natural-n-21-a-language-of-sonic-interaction-soun
 d-healing-live/
URL:https://www.theclubmap.com/events/natural-n-21-a-language-of-sonic-interaction-sound-healing-live/
END:VEVENT
END:VCALENDAR