BEGIN:VCALENDAR
VERSION:2.0
PRODID:-//eventon.com NONSGML v1.0//EN
CALSCALE:GREGORIAN
METHOD:PUBLISH
BEGIN:VEVENT
UID:69e5fb11cef48
DTSTAMP:20260420T100817Z
DTSTART:20251002T203000Z
DTEND:20251002T130000Z
LOCATION:GrooveStation | DRESDEN
SUMMARY:80s TOTAL - total recall
DESCRIPTION:Bob und Dave\,  zwei Agenten unter Cohaagens Schurken\,  sind z
 urück in der Stadt aus Stahl und Schatten. Die Luft schmeckt nach Metall\,
   nach Regen\,  nach Erinnerung. Ein neuer Tanz bricht durch die Ruinen der
  Routine. Keine Versprechungen\,  nur Puls. Die Maschinen summen im Takt mi
 t neongrellen Reklamen. Synchron treten beide[..]\nhttps://www.theclubmap.c
 om/events/80s-total-total-recall/
URL:https://www.theclubmap.com/events/80s-total-total-recall/
END:VEVENT
END:VCALENDAR