BEGIN:VCALENDAR
VERSION:2.0
PRODID:-//eventon.com NONSGML v1.0//EN
CALSCALE:GREGORIAN
METHOD:PUBLISH
BEGIN:VEVENT
UID:69e74fce61fe1
DTSTAMP:20260421T102206Z
DTSTART:20251002T183000Z
DTEND:20251003T033000Z
LOCATION:Coco Boule Prinzenstraße 85/D-F\,  10969 Berlin
SUMMARY:TIPP: EATALO DISCO PRES: DJ BORIS
DESCRIPTION:EATALO DISCO PRESENTS: DJ BORIS (BERGHAIN/OSTGUT TON) Ven
 ue: Coco Boule Prinzenstraße 85/D-F\,  10969 Berlin — Event Schedule: 
 2 OCTOBER 2025  20:30 – 23:30 Food by ‍ GABRIELE LOCOROTONDO  Ba
 r by MARTINI · PATRÓN  Arts by MARINA ZUMI · SAPHIRA KUNST · ZLAT
 OMIRA OPROVA  Magazine &#038; Brand Corner  Opening DJ Set 23:30 – 3:3
 0 am DJ set by: BORIS Voguing show[..]\nhttps://www.theclubmap.com/events
 /eatalo-disco-presents-dj-boris-berghain-ostgut-ton/
URL:https://www.theclubmap.com/events/eatalo-disco-presents-dj-boris-berghain-ostgut-ton/
END:VEVENT
END:VCALENDAR