BEGIN:VCALENDAR
VERSION:2.0
PRODID:-//eventon.com NONSGML v1.0//EN
CALSCALE:GREGORIAN
METHOD:PUBLISH
BEGIN:VEVENT
UID:69e73e889de53
DTSTAMP:20260421T090824Z
DTSTART:20251002T200000Z
DTEND:20251003T060000Z
LOCATION:Ritter Butzke Ritterstrasse 26\,  10969 Berlin
SUMMARY:TIPP: KOLLEGIAL pres. by BSTHP
DESCRIPTION:KOLLEGIAL &#8211; ist die Verbindung von verschiedenen Künstle
 r:innen\,  CREWs und Kollektiven. Für uns steht ein homogenes und kollegia
 les Miteinander im Vordergrund\,  welches die Veranstaltungen zu einem beso
 nderen und empathischen Erlebnis der Tanzkultur macht. Präsentiert durch B
 STHP &#8211; Beschäftigungstherapie / Berlin Sound Therapy. ​ Line-up fr
 om A-Z: A.D.H.S. Andelski BEKA Bretter[..]\nhttps://www.theclubmap.com/even
 ts/kollegial-pres-by-bsthp-w-a-d-h-s-ozzy-riot-justus-and-many-more/
URL:https://www.theclubmap.com/events/kollegial-pres-by-bsthp-w-a-d-h-s-ozzy-riot-justus-and-many-more/
END:VEVENT
END:VCALENDAR