BEGIN:VCALENDAR
VERSION:2.0
PRODID:-//eventon.com NONSGML v1.0//EN
CALSCALE:GREGORIAN
METHOD:PUBLISH
BEGIN:VEVENT
UID:69e75439125d6
DTSTAMP:20260421T104057Z
DTSTART:20251003T100000Z
DTEND:20251003T200000Z
LOCATION:Cassiopeia Revaler Str. 99\,  10245 Berlin
SUMMARY:TIPP: Free Open Air Rave at cassiopeia Sommergarten
DESCRIPTION:Free Open Air Rave – cassiopeia Sommergarten Am 3. Oktober fe
 iert der Sommergarten auf dem RAW-Gelände ein letztes Mal unter freiem Him
 mel: ein kostenloses Open Air mit treibendem Techno\,  warehouse vibes und 
 echtem Sommerabschied. Line-up: Yetti Meissner\,  Diana May\,  deKai\,  Ben
  Green\,  Fhilter For Free!\nhttps://www.theclubmap.com/events/free-open-ai
 r-rave-at-cassiopeia-sommergarten/
URL:https://www.theclubmap.com/events/free-open-air-rave-at-cassiopeia-sommergarten/
END:VEVENT
END:VCALENDAR