BEGIN:VCALENDAR
VERSION:2.0
PRODID:-//eventon.com NONSGML v1.0//EN
CALSCALE:GREGORIAN
METHOD:PUBLISH
BEGIN:VEVENT
UID:69e6233e1595f
DTSTAMP:20260420T125942Z
DTSTART:20260508T173000Z
DTEND:20260508T193000Z
LOCATION:Huxleys Berlin Hasenheide 107/113\,  10967 Berlin
SUMMARY:Georg Stengel - ISSO - Live mit Band 2026
DESCRIPTION:2026 geht Georg Stengel wieder auf Tour – lauter\,  emotional
 er und näher dran als je zuvor. Nach seinem erfolgreichen Debütalbum „E
 ndlich!“\,  millionenfach gestreamten Songs und gefeierten Auftritten an 
 der Seite von Roland Kaiser\,  startet der sympathische Brandenburger erneu
 t durch: mit seinem neuen Album „ISSO“\,  das am 13. März 2026 erschei
 nt\, [..]\nhttps://www.theclubmap.com/events/georg-stengel-isso-live-mit-ba
 nd-2026/
URL:https://www.theclubmap.com/events/georg-stengel-isso-live-mit-band-2026/
END:VEVENT
END:VCALENDAR