BEGIN:VCALENDAR
VERSION:2.0
PRODID:-//eventon.com NONSGML v1.0//EN
CALSCALE:GREGORIAN
METHOD:PUBLISH
BEGIN:VEVENT
UID:69e9d7948ae4b
DTSTAMP:20260423T082556Z
DTSTART:20251003T200000Z
DTEND:20251004T020000Z
LOCATION:PALAIS Club | MÜNCHEN
SUMMARY:DEEP
DESCRIPTION:Cheriii (Homodrop / Berlin) Erhyc (DEEP) Juva Derm Nightstand (
 Berlin)\nhttps://www.theclubmap.com/events/deep-2/
URL:https://www.theclubmap.com/events/deep-2/
END:VEVENT
END:VCALENDAR