BEGIN:VCALENDAR
VERSION:2.0
PRODID:-//eventon.com NONSGML v1.0//EN
CALSCALE:GREGORIAN
METHOD:PUBLISH
BEGIN:VEVENT
UID:69e9d79d4c15f
DTSTAMP:20260423T082605Z
DTSTART:20251004T210000Z
DTEND:20251005T060000Z
LOCATION:Artheater | KÖLN
SUMMARY:Klaudia Gawlas x ARTOFURBANLIFE
DESCRIPTION:Klaudia Gawlas Kevin Arnold Bishalbacht Hochpotent Basement hos
 ted by Connected Cologne: AAADRICH B2B kish BOYS DO CRY B2B OSKAMAXX ELYANT
 E NINTENDUO nordcorreia.mp3\nhttps://www.theclubmap.com/events/klaudia-gawl
 as-x-artofurbanlife/
URL:https://www.theclubmap.com/events/klaudia-gawlas-x-artofurbanlife/
END:VEVENT
END:VCALENDAR