BEGIN:VCALENDAR
VERSION:2.0
PRODID:-//eventon.com NONSGML v1.0//EN
CALSCALE:GREGORIAN
METHOD:PUBLISH
BEGIN:VEVENT
UID:69e73e649b15a
DTSTAMP:20260421T090748Z
DTSTART:20251004T210000Z
DTEND:20251005T060000Z
LOCATION:Odonien | KÖLN
SUMMARY:Odonien End Of Summer Rave
DESCRIPTION:DDR: Cosanne b2b Interplay Schienenhalle: 1Kollektiv w/ Arondo 
 b2b Lara G. Tantchen 363 Schubert und Koller Moriza Odonien-Disco-Bus: Joer
 g Seven &#038; Roman Jacobs\nhttps://www.theclubmap.com/events/odonien-end-
 of-summer-rave/
URL:https://www.theclubmap.com/events/odonien-end-of-summer-rave/
END:VEVENT
END:VCALENDAR