BEGIN:VCALENDAR
VERSION:2.0
PRODID:-//eventon.com NONSGML v1.0//EN
CALSCALE:GREGORIAN
METHOD:PUBLISH
BEGIN:VEVENT
UID:69e7407232151
DTSTAMP:20260421T091634Z
DTSTART:20251004T210000Z
DTEND:20251004T180000Z
LOCATION:YOTO Hamburg
SUMMARY:YOTO x PRAIZ\,  ARMAH\,  NORII
DESCRIPTION:Willkommen zur High-Energy-Nacht der Global Music &#038; Cultur
 e mit puren Dancefloor-Vibes aus Afrobeat\,  Amapiano\,  Dancehall\,  Hip-H
 op und groovigen Open:Format-Styles. Wir zelebrieren eine unvergessliche Na
 cht voller Rhythmus mit DJ PRAIZ von der Outsiders Crew und DJ ARMAH\,  der
  bei der vergangenen Queens &#038; Clouds-Nacht im Yoto mit seiner Show ein
 drucksvoll bewiesen[..]\nhttps://www.theclubmap.com/events/yoto-x-praiz-arm
 ah-norii/
URL:https://www.theclubmap.com/events/yoto-x-praiz-armah-norii/
END:VEVENT
END:VCALENDAR