BEGIN:VCALENDAR
VERSION:2.0
PRODID:-//eventon.com NONSGML v1.0//EN
CALSCALE:GREGORIAN
METHOD:PUBLISH
BEGIN:VEVENT
UID:69e74ec8b3f90
DTSTAMP:20260421T101744Z
DTSTART:20251002T215900Z
DTEND:20251002T040000Z
LOCATION:Silbergold | FRANKFURT
SUMMARY:Dexterous Energy: Carly Zeng (Dissident/Berlin)\,  DJ Chichi (XCUSE:U/Berlin) & ²nimble
DESCRIPTION:House Breaks 23:59 | 12€ | Students/pupils/trainees 7€ Carl
 y Zeng (Dissident/Berlin) DJ Chichi (XCUSE:U/Berlin) ²nimble Dexterous Ene
 rgy returns to Silbergold on this pre-holiday night with a lineup that prom
 ises raw\,  energetic and uplifting underground house all night long. Carly
  Zeng headlines the night with her fearless\,  vinyl-powered selections. Th
 e Berlin-based[..]\nhttps://www.theclubmap.com/events/dexterous-energy-carl
 y-zeng-dissident-berlin-dj-chichi-xcuseu-berlin-%c2%b2nimble/
URL:https://www.theclubmap.com/events/dexterous-energy-carly-zeng-dissident-berlin-dj-chichi-xcuseu-berlin-%c2%b2nimble/
END:VEVENT
END:VCALENDAR