BEGIN:VCALENDAR
VERSION:2.0
PRODID:-//eventon.com NONSGML v1.0//EN
CALSCALE:GREGORIAN
METHOD:PUBLISH
BEGIN:VEVENT
UID:69e74f788af41
DTSTAMP:20260421T102040Z
DTSTART:20251101T210000Z
DTEND:20251102T090000Z
LOCATION:OXI Wiesenweg 1-4\,  10365 Berlin
SUMMARY:SMALL GREAT HOUSE "November Edition!" w/ Mousse T.
DESCRIPTION:SMALL GREAT HOUSE &#8222;November Edition Mousse T. &#038; Mike
  Starr&#8220;. November 1st | Indoor on 3 Floors After the beautiful Octobe
 r edition with legends Session Victim &#038; Nat Wendell\,  we’re back in
  full swing on November 1st to launch the winter series in true Small Great
  style – with a[..]\nhttps://www.theclubmap.com/events/small-great-house-
 november-edition-w-mousse-t/
URL:https://www.theclubmap.com/events/small-great-house-november-edition-w-mousse-t/
END:VEVENT
END:VCALENDAR