BEGIN:VCALENDAR
VERSION:2.0
PRODID:-//eventon.com NONSGML v1.0//EN
CALSCALE:GREGORIAN
METHOD:PUBLISH
BEGIN:VEVENT
UID:69e73a7570871
DTSTAMP:20260421T085101Z
DTSTART:20251017T215900Z
DTEND:20251018T060000Z
LOCATION:://about blank Markgrafendamm 24c\,  10245 Berlin
SUMMARY:TIPP:Amsterdam Techno Records
DESCRIPTION:Get ready for our next rave on 17 Oct in ://about blank\,  wher
 e the spirit of the underground sounds of Amsterdam collide with the heart 
 of Berlin! We focus on RAVES within the combination of these two TECHNO Cap
 itals. This edition promises again to be a fusion of hypnotic groove\, [..]
 \nhttps://www.theclubmap.com/events/amsterdam-techno-records-and-about-blan
 k-on-fridays-amsterdam-and-berlin-2/
URL:https://www.theclubmap.com/events/amsterdam-techno-records-and-about-blank-on-fridays-amsterdam-and-berlin-2/
END:VEVENT
END:VCALENDAR