BEGIN:VCALENDAR
VERSION:2.0
PRODID:-//eventon.com NONSGML v1.0//EN
CALSCALE:GREGORIAN
METHOD:PUBLISH
BEGIN:VEVENT
UID:69e740b69b1c5
DTSTAMP:20260421T091742Z
DTSTART:20251011T210000Z
DTEND:20251012T030000Z
LOCATION:Beat Boutique | HAMBURG
SUMMARY:GOOEY
DESCRIPTION:Franziska Frizzante freesi Hard Drive Library le0never Siggatun
 ez\nhttps://www.theclubmap.com/events/gooey/
URL:https://www.theclubmap.com/events/gooey/
END:VEVENT
END:VCALENDAR